BEGIN:VCALENDAR
VERSION:2.0
PRODID:deo.hkust.edu.hk
BEGIN:VEVENT
UID:69e5ea06b7bda
DTSTART:20260320T190000Z
SEQUENCE:0
TRANSP:OPAQUE
DTEND:20260320T200000Z
SUMMARY:Building a Career in IS: An Alumna’s Journey Across Tech and Fina
 nce
CLASS:PUBLIC
DESCRIPTION:Building a Career in IS: An Alumna’s Journey Across Tech and 
 Finance
DTSTAMP:20260420T085534Z
END:VEVENT
END:VCALENDAR