BEGIN:VCALENDAR
VERSION:2.0
PRODID:deo.hkust.edu.hk
BEGIN:VEVENT
UID:69e5c7cb76d8a
DTSTART:20251009T143000Z
SEQUENCE:0
TRANSP:OPAQUE
DTEND:20251009T163000Z
SUMMARY:HSBC Hong Kong Inclusion - HKUST x HSBC Visit
CLASS:PUBLIC
DESCRIPTION:HSBC Hong Kong Inclusion - HKUST x HSBC Visit
DTSTAMP:20260420T062931Z
END:VEVENT
END:VCALENDAR