BEGIN:VCALENDAR
VERSION:2.0
PRODID:deo.hkust.edu.hk
BEGIN:VEVENT
UID:69e577d61c3d5
DTSTART;VALUE=DATE:20250901
SEQUENCE:0
TRANSP:OPAQUE
DTEND;VALUE=DATE:20260701
SUMMARY:HKUST/The Women’s Foundation 25/26 Advocate Partnership
CLASS:PUBLIC
DESCRIPTION:HKUST/The Women’s Foundation 25/26 Advocate Partnership
X-MICROSOFT-CDO-ALLDAYEVENT:TRUE
DTSTAMP:20260420T004822Z
END:VEVENT
END:VCALENDAR