BEGIN:VCALENDAR
VERSION:2.0
PRODID:deo.hkust.edu.hk
BEGIN:VEVENT
UID:69e57307eff38
DTSTART;VALUE=DATE:20250409
SEQUENCE:0
TRANSP:OPAQUE
DTEND;VALUE=DATE:20250417
SUMMARY:Exhibition on Anti-discrimination\, Sexual Harassment and Inclusive
  Languages
CLASS:PUBLIC
DESCRIPTION:Exhibition on Anti-discrimination\, Sexual Harassment and Inclu
 sive Languages
X-MICROSOFT-CDO-ALLDAYEVENT:TRUE
DTSTAMP:20260420T002752Z
END:VEVENT
END:VCALENDAR