BEGIN:VCALENDAR
VERSION:2.0
PRODID:deo.hkust.edu.hk
BEGIN:VEVENT
UID:69e635ff51b0c
DTSTART;VALUE=DATE:20250211
SEQUENCE:0
TRANSP:OPAQUE
DTEND;VALUE=DATE:20250212
SUMMARY:免費派發神經多樣性教育頸繩和襟章
CLASS:PUBLIC
DESCRIPTION:免費派發神經多樣性教育頸繩和襟章
X-MICROSOFT-CDO-ALLDAYEVENT:TRUE
DTSTAMP:20260420T141943Z
END:VEVENT
END:VCALENDAR