BEGIN:VCALENDAR
VERSION:2.0
PRODID:deo.hkust.edu.hk
BEGIN:VEVENT
UID:69e5d445b0e15
DTSTART:20250118T143000Z
SEQUENCE:0
TRANSP:OPAQUE
DTEND:20250118T173000Z
SUMMARY:農曆新年烹飪工作坊 (for HKUST staff and family)
CLASS:PUBLIC
DESCRIPTION:農曆新年烹飪工作坊 (for HKUST staff and family)
DTSTAMP:20260420T072245Z
END:VEVENT
END:VCALENDAR