BEGIN:VCALENDAR
VERSION:2.0
PRODID:deo.hkust.edu.hk
BEGIN:VEVENT
UID:69e5d445b0e15
DTSTART;VALUE=DATE:20240916
SEQUENCE:0
TRANSP:OPAQUE
DTEND;VALUE=DATE:20240917
SUMMARY:免費派發神經多樣性相關的教育頸繩、襟章以及貼
 紙
CLASS:PUBLIC
DESCRIPTION:免費派發神經多樣性相關的教育頸繩、襟章以及
 貼紙
X-MICROSOFT-CDO-ALLDAYEVENT:TRUE
DTSTAMP:20260420T072245Z
END:VEVENT
END:VCALENDAR