BEGIN:VCALENDAR
VERSION:2.0
PRODID:deo.hkust.edu.hk
BEGIN:VEVENT
UID:69e57307eff35
DTSTART:20240930T130000Z
SEQUENCE:0
TRANSP:OPAQUE
DTEND:20240930T130000Z
SUMMARY:「色彩共融」藝術作品展
CLASS:PUBLIC
DESCRIPTION:「色彩共融」藝術作品展
DTSTAMP:20260420T002752Z
END:VEVENT
BEGIN:VEVENT
UID:69e57307eff89
DTSTART:20241001T130000Z
SEQUENCE:0
TRANSP:OPAQUE
DTEND:20241001T130000Z
SUMMARY:「色彩共融」藝術作品展
CLASS:PUBLIC
DESCRIPTION:「色彩共融」藝術作品展
DTSTAMP:20260420T002752Z
END:VEVENT
BEGIN:VEVENT
UID:69e57307eff8e
DTSTART:20241002T130000Z
SEQUENCE:0
TRANSP:OPAQUE
DTEND:20241002T130000Z
SUMMARY:「色彩共融」藝術作品展
CLASS:PUBLIC
DESCRIPTION:「色彩共融」藝術作品展
DTSTAMP:20260420T002752Z
END:VEVENT
BEGIN:VEVENT
UID:69e57307eff97
DTSTART:20241003T130000Z
SEQUENCE:0
TRANSP:OPAQUE
DTEND:20241003T130000Z
SUMMARY:「色彩共融」藝術作品展
CLASS:PUBLIC
DESCRIPTION:「色彩共融」藝術作品展
DTSTAMP:20260420T002752Z
END:VEVENT
BEGIN:VEVENT
UID:69e57307eff9c
DTSTART:20241004T130000Z
SEQUENCE:0
TRANSP:OPAQUE
DTEND:20241004T130000Z
SUMMARY:「色彩共融」藝術作品展
CLASS:PUBLIC
DESCRIPTION:「色彩共融」藝術作品展
DTSTAMP:20260420T002752Z
END:VEVENT
BEGIN:VEVENT
UID:69e57307effa0
DTSTART:20241005T130000Z
SEQUENCE:0
TRANSP:OPAQUE
DTEND:20241005T130000Z
SUMMARY:「色彩共融」藝術作品展
CLASS:PUBLIC
DESCRIPTION:「色彩共融」藝術作品展
DTSTAMP:20260420T002752Z
END:VEVENT
BEGIN:VEVENT
UID:69e57307effa4
DTSTART:20241006T130000Z
SEQUENCE:0
TRANSP:OPAQUE
DTEND:20241006T130000Z
SUMMARY:「色彩共融」藝術作品展
CLASS:PUBLIC
DESCRIPTION:「色彩共融」藝術作品展
DTSTAMP:20260420T002752Z
END:VEVENT
BEGIN:VEVENT
UID:69e57307effa9
DTSTART:20241007T130000Z
SEQUENCE:0
TRANSP:OPAQUE
DTEND:20241007T130000Z
SUMMARY:「色彩共融」藝術作品展
CLASS:PUBLIC
DESCRIPTION:「色彩共融」藝術作品展
DTSTAMP:20260420T002752Z
END:VEVENT
BEGIN:VEVENT
UID:69e57307effad
DTSTART:20241008T130000Z
SEQUENCE:0
TRANSP:OPAQUE
DTEND:20241008T130000Z
SUMMARY:「色彩共融」藝術作品展
CLASS:PUBLIC
DESCRIPTION:「色彩共融」藝術作品展
DTSTAMP:20260420T002752Z
END:VEVENT
END:VCALENDAR