BEGIN:VCALENDAR
VERSION:2.0
PRODID:deo.hkust.edu.hk
BEGIN:VEVENT
UID:69e5f4921b397
DTSTART:20240816T140000Z
SEQUENCE:0
TRANSP:OPAQUE
DTEND:20240816T170000Z
SUMMARY:「色彩共融」藝術工作坊（教職員及親子）
CLASS:PUBLIC
DESCRIPTION:「色彩共融」藝術工作坊（教職員及親子）
DTSTAMP:20260420T094034Z
END:VEVENT
END:VCALENDAR