BEGIN:VCALENDAR
VERSION:2.0
PRODID:deo.hkust.edu.hk
BEGIN:VEVENT
UID:69e5f4920f8fd
DTSTART:20240906T130000Z
SEQUENCE:0
TRANSP:OPAQUE
DTEND:20240906T170000Z
SUMMARY:桃花酥及小兔奶黃月餅工作坊 (for HKUST Staff)
CLASS:PUBLIC
DESCRIPTION:桃花酥及小兔奶黃月餅工作坊 (for HKUST Staff)
DTSTAMP:20260420T094034Z
END:VEVENT
END:VCALENDAR