BEGIN:VCALENDAR
VERSION:2.0
PRODID:deo.hkust.edu.hk
BEGIN:VEVENT
UID:69e551172aef2
DTSTART:20240827T150000Z
SEQUENCE:0
TRANSP:OPAQUE
DTEND:20240827T163000Z
SUMMARY:認識香港反歧視法例
CLASS:PUBLIC
DESCRIPTION:認識香港反歧視法例
DTSTAMP:20260419T220303Z
END:VEVENT
END:VCALENDAR