BEGIN:VCALENDAR
VERSION:2.0
PRODID:deo.hkust.edu.hk
BEGIN:VEVENT
UID:69e5c7cb76d88
DTSTART;VALUE=DATE:20240830
SEQUENCE:0
TRANSP:OPAQUE
DTEND;VALUE=DATE:20240831
SUMMARY:「色彩共融」藝術作品展—作品徵集
CLASS:PUBLIC
DESCRIPTION:「色彩共融」藝術作品展—作品徵集
X-MICROSOFT-CDO-ALLDAYEVENT:TRUE
DTSTAMP:20260420T062931Z
END:VEVENT
END:VCALENDAR