BEGIN:VCALENDAR
VERSION:2.0
PRODID:deo.hkust.edu.hk
BEGIN:VEVENT
UID:69e4f4e770cba
DTSTART:20240621T110000Z
SEQUENCE:0
TRANSP:OPAQUE
DTEND:20240621T130000Z
SUMMARY:「色彩共融」藝術工作坊
CLASS:PUBLIC
DESCRIPTION:「色彩共融」藝術工作坊
DTSTAMP:20260419T152943Z
END:VEVENT
END:VCALENDAR