BEGIN:VCALENDAR
VERSION:2.0
PRODID:deo.hkust.edu.hk
BEGIN:VEVENT
UID:69e5c81bdb5ac
DTSTART;VALUE=DATE:20240408
SEQUENCE:0
TRANSP:OPAQUE
DTEND;VALUE=DATE:20240420
SUMMARY:防止歧視及性騷擾展覽
CLASS:PUBLIC
DESCRIPTION:防止歧視及性騷擾展覽
X-MICROSOFT-CDO-ALLDAYEVENT:TRUE
DTSTAMP:20260420T063051Z
END:VEVENT
END:VCALENDAR