BEGIN:VCALENDAR
VERSION:2.0
PRODID:deo.hkust.edu.hk
BEGIN:VEVENT
UID:69e59d309def9
DTSTART:20240419T123000Z
SEQUENCE:0
TRANSP:OPAQUE
DTEND:20240419T140000Z
SUMMARY:神經多樣性：支援學生的策略
CLASS:PUBLIC
DESCRIPTION:神經多樣性：支援學生的策略
DTSTAMP:20260420T032744Z
END:VEVENT
END:VCALENDAR