BEGIN:VCALENDAR
VERSION:2.0
PRODID:deo.hkust.edu.hk
BEGIN:VEVENT
UID:69e4dd2a20534
DTSTART:20240425T143000Z
SEQUENCE:0
TRANSP:OPAQUE
DTEND:20240425T164500Z
SUMMARY:認識香港反歧視法例
CLASS:PUBLIC
DESCRIPTION:認識香港反歧視法例
DTSTAMP:20260419T134826Z
END:VEVENT
END:VCALENDAR