BEGIN:VCALENDAR
VERSION:2.0
PRODID:deo.hkust.edu.hk
BEGIN:VEVENT
UID:69e57307eff9b
DTSTART;VALUE=DATE:20240321
SEQUENCE:0
TRANSP:OPAQUE
DTEND;VALUE=DATE:20240322
SUMMARY:消除種族歧視國際日2024
CLASS:PUBLIC
DESCRIPTION:消除種族歧視國際日2024
X-MICROSOFT-CDO-ALLDAYEVENT:TRUE
DTSTAMP:20260420T002752Z
END:VEVENT
END:VCALENDAR