BEGIN:VCALENDAR
VERSION:2.0
PRODID:deo.hkust.edu.hk
BEGIN:VEVENT
UID:69e582feeca9f
DTSTART:20240226T123000Z
SEQUENCE:0
TRANSP:OPAQUE
DTEND:20240226T140000Z
SUMMARY:朱古力龍鬚糖製作工作坊
CLASS:PUBLIC
DESCRIPTION:朱古力龍鬚糖製作工作坊
DTSTAMP:20260420T013558Z
END:VEVENT
END:VCALENDAR