BEGIN:VCALENDAR
VERSION:2.0
PRODID:deo.hkust.edu.hk
BEGIN:VEVENT
UID:69e57307f00a8
DTSTART:20231021T140000Z
SEQUENCE:0
TRANSP:OPAQUE
DTEND:20231021T160000Z
SUMMARY:家庭文化體驗: 非洲鼓工作坊
CLASS:PUBLIC
DESCRIPTION:家庭文化體驗: 非洲鼓工作坊
DTSTAMP:20260420T002752Z
END:VEVENT
END:VCALENDAR