BEGIN:VCALENDAR
VERSION:2.0
PRODID:deo.hkust.edu.hk
BEGIN:VEVENT
UID:69e551172aef2
DTSTART:20230721T141500Z
SEQUENCE:0
TRANSP:OPAQUE
DTEND:20230721T173000Z
SUMMARY:暑期親子多元文化體驗-參觀錫克教廟
CLASS:PUBLIC
DESCRIPTION:暑期親子多元文化體驗-參觀錫克教廟
DTSTAMP:20260419T220303Z
END:VEVENT
END:VCALENDAR