BEGIN:VCALENDAR
VERSION:2.0
PRODID:deo.hkust.edu.hk
BEGIN:VEVENT
UID:69e59d305ec3d
DTSTART;VALUE=DATE:20230616
SEQUENCE:0
TRANSP:OPAQUE
DTEND;VALUE=DATE:20230624
SUMMARY:香港科技大學一向重視多元共融文化、推動互相尊
 重和平等機會的理念、尊重不同人士。
CLASS:PUBLIC
DESCRIPTION:香港科技大學一向重視多元共融文化、推動互相
 尊重和平等機會的理念、尊重不同人士。
X-MICROSOFT-CDO-ALLDAYEVENT:TRUE
DTSTAMP:20260420T032744Z
END:VEVENT
END:VCALENDAR