BEGIN:VCALENDAR
VERSION:2.0
PRODID:deo.hkust.edu.hk
BEGIN:VEVENT
UID:69e7798d2ea65
DTSTART;VALUE=DATE:20230405
SEQUENCE:0
TRANSP:OPAQUE
DTEND;VALUE=DATE:20230406
SUMMARY:免費派發神經多樣性相關的教育頸繩、襟章以及貼
 紙
CLASS:PUBLIC
DESCRIPTION:免費派發神經多樣性相關的教育頸繩、襟章以及
 貼紙
X-MICROSOFT-CDO-ALLDAYEVENT:TRUE
DTSTAMP:20260421T132013Z
END:VEVENT
END:VCALENDAR