BEGIN:VCALENDAR
VERSION:2.0
PRODID:deo.hkust.edu.hk
BEGIN:VEVENT
UID:69e5c7cb76da7
DTSTART;VALUE=DATE:20230404
SEQUENCE:0
TRANSP:OPAQUE
DTEND;VALUE=DATE:20230420
SUMMARY:“Gift Me A Moment”「當下是最好的禮物」 復元人仕
 藝術作品展
CLASS:PUBLIC
DESCRIPTION:“Gift Me A Moment”「當下是最好的禮物」 復元人
 仕藝術作品展
X-MICROSOFT-CDO-ALLDAYEVENT:TRUE
DTSTAMP:20260420T062931Z
END:VEVENT
END:VCALENDAR