BEGIN:VCALENDAR
VERSION:2.0
PRODID:deo.hkust.edu.hk
BEGIN:VEVENT
UID:69e5ae6c6a556
DTSTART:20260303T123000Z
SEQUENCE:0
TRANSP:OPAQUE
DTEND:20260303T133000Z
SUMMARY:Fireside Chat with Christina Ho\, Founder of Social Enterprise Cour
 ageouX and Former Airline Pilot
CLASS:PUBLIC
DESCRIPTION:Fireside Chat with Christina Ho\, Founder of Social Enterprise 
 CourageouX and Former Airline Pilot
DTSTAMP:20260420T044116Z
END:VEVENT
END:VCALENDAR