BEGIN:VCALENDAR
VERSION:2.0
PRODID:deo.hkust.edu.hk
BEGIN:VEVENT
UID:69e5530171e81
DTSTART:20260306T110000Z
SEQUENCE:0
TRANSP:OPAQUE
DTEND:20260306T160000Z
SUMMARY:International Women Entrepreneurship Day Giveaway &amp\; Sharing 20
 26
CLASS:PUBLIC
DESCRIPTION:International Women Entrepreneurship Day Giveaway &amp\; Sharin
 g 2026
DTSTAMP:20260419T221113Z
END:VEVENT
END:VCALENDAR