BEGIN:VCALENDAR
VERSION:2.0
PRODID:deo.hkust.edu.hk
BEGIN:VEVENT
UID:69e60dd2a0ab4
DTSTART:20250923T123000Z
SEQUENCE:0
TRANSP:OPAQUE
DTEND:20250923T134500Z
SUMMARY:[To be rescheduled] Fireside chat with Woman CEO in Hong Kong: Lead
 ership and DEI 
CLASS:PUBLIC
DESCRIPTION:[To be rescheduled] Fireside chat with Woman CEO in Hong Kong: 
 Leadership and DEI 
DTSTAMP:20260420T112818Z
END:VEVENT
END:VCALENDAR