BEGIN:VCALENDAR
VERSION:2.0
PRODID:deo.hkust.edu.hk
BEGIN:VEVENT
UID:69e4f4e771579
DTSTART:20250801T140000Z
SEQUENCE:0
TRANSP:OPAQUE
DTEND:20250801T170000Z
SUMMARY:Khalsa Diwan Sikh Temple Visit (for HKUST staff and family)
CLASS:PUBLIC
DESCRIPTION:Khalsa Diwan Sikh Temple Visit (for HKUST staff and family)
DTSTAMP:20260419T152943Z
END:VEVENT
END:VCALENDAR