BEGIN:VCALENDAR
VERSION:2.0
PRODID:deo.hkust.edu.hk
BEGIN:VEVENT
UID:69e5c81ebf37f
DTSTART:20250118T143000Z
SEQUENCE:0
TRANSP:OPAQUE
DTEND:20250118T173000Z
SUMMARY:Chinese New Year Cooking Workshop (for HKUST staff and family)
CLASS:PUBLIC
DESCRIPTION:Chinese New Year Cooking Workshop (for HKUST staff and family)
DTSTAMP:20260420T063054Z
END:VEVENT
END:VCALENDAR