BEGIN:VCALENDAR
VERSION:2.0
PRODID:deo.hkust.edu.hk
BEGIN:VEVENT
UID:69e5ee0dc292e
DTSTART;VALUE=DATE:20230404
SEQUENCE:0
TRANSP:OPAQUE
DTEND;VALUE=DATE:20230420
SUMMARY:“Gift Me A Moment”「當下是最好的禮物」 The Art Exhibi
 tion of People in Recovery
CLASS:PUBLIC
DESCRIPTION:“Gift Me A Moment”「當下是最好的禮物」 The Art Ex
 hibition of People in Recovery
X-MICROSOFT-CDO-ALLDAYEVENT:TRUE
DTSTAMP:20260420T091245Z
END:VEVENT
END:VCALENDAR